{"text_format":"3","workbook":"xlsx","n_sheets":9,"sheets":["Сентябрь","Октябрь","Ноябрь","Декабрь","Январь","Февраль","Март","Апрель","Май"],"read":"whole","date_system":"1900"}

{"sheet":"Сентябрь","index":0,"n_rows":30,"n_cols":32,"rows_kept":30,"merged":[[0,18,0,23],[18,3,18,5],[18,9,18,11],[18,16,18,31],[19,3,19,5],[19,9,19,11],[20,3,20,5],[20,9,20,11],[20,16,20,31],[21,3,21,5],[21,9,21,11],[22,3,22,5],[22,9,22,11],[23,3,23,5],[23,9,23,11],[24,3,24,5],[24,9,24,11],[25,3,25,5],[25,9,25,11],[26,3,26,5],[26,9,26,11],[27,3,27,5],[27,9,27,11],[28,3,28,5],[28,9,28,11],[29,3,29,5],[29,9,29,11]]}
[null,"ГРАФИК КОНТРОЛЬНЫХ РАБОТ МБОУ ЛИЦЕЙ №2",{"$nulls":16},"сентябрь 2022"]
["классы",1,2,3,4,5,6,7,8,9,10,11,12,13,14,15,16,17,18,19,20,21,22,23,24,25,26,27,28,29,30,31]
["5А",{"$nulls":18},{"$f":"$B$19","v":"РЯ"},{"$f":"$H$30","v":"М"},null,{"$f":"$H$30","v":"М"},null,{"$f":"$B$19","v":"РЯ"}]
["5Б",{"$nulls":18},{"$f":"$B$19","v":"РЯ"},{"$f":"$H$30","v":"М"},null,{"$f":"$H$30","v":"М"},null,{"$f":"$B$19","v":"РЯ"}]
["6А",{"$nulls":11},{"$f":"$B$20","v":"Л"}]
["6Б",{"$nulls":11},{"$f":"$B$20","v":"Л"},{"$nulls":13},{"$f":"$H$30","v":"М"}]
["7А",{"$nulls":6},{"$f":"$B$27","v":"А"}]
["7Б",{"$nulls":6},{"$f":"$B$27","v":"А"}]
["7В"]
["7Г"]
["8А",{"$nulls":22},{"$f":"$H$30","v":"М"},null,null,{"$f":"$H$19","v":"О"},null,null,{"$f":"$B$19","v":"РЯ"}]
["8Б",{"$nulls":22},{"$f":"$H$30","v":"М"},null,null,{"$f":"$H$19","v":"О"},null,null,{"$f":"$B$19","v":"РЯ"}]
["8В",{"$nulls":22},{"$f":"$H$30","v":"М"},{"$nulls":5},{"$f":"$B$19","v":"РЯ"},{"$f":"$H$19","v":"О"}]
["9А",{"$nulls":28},{"$f":"$H$30","v":"М"}]
["9Б",{"$nulls":28},{"$f":"$H$30","v":"М"}]
["9В",{"$nulls":28},{"$f":"$H$30","v":"М"}]
[10,{"$nulls":11},{"$f":"$H$30","v":"М"},null,null,{"$f":"$B$19","v":"РЯ"},{"$nulls":5},{"$f":"$B$19","v":"РЯ"}]
[]
[null,"РЯ",null,"русский язык",{"$nulls":3},"О",null,"обществзнан",{"$nulls":6},"административная контрольная работа (школьный уровень)"]
[null,"Л",null,"литература",{"$nulls":3},"Гг",null,"география"]
[null,"РЯт",null,"род. яз. тат",{"$nulls":3},"Ф",null,"физика",{"$nulls":6},"тематическая контрольная работа (школьный уровень)"]
[null,"РЯр",null,"род. яз. русс",{"$nulls":3},"Х",null,"химия"]
[null,"РЛт",null,"род. лит. тат",{"$nulls":3},"Б",null,"биология",{"$nulls":6},"выходной день, каникулы"]
[null,"РЛр",null,"род. лит. русс",{"$nulls":3},"Му",null,"музыка"]
[null,"АЯ",null,"ин яз (англ)",{"$nulls":3},"Т",null,"технология",{"$nulls":6},"Всероссийская проверочная работа"]
[null,"НЯ",null,"ин яз (нем)",{"$nulls":3},"ФК",null,"физ-ра"]
[null,"А",null,"алгебра",{"$nulls":3},"ОБЖ",null,"ОБЖ"]
[null,"Гм",null,"геометрия",{"$nulls":3},"ИЗО",null,"ИЗО"]
[null,"Ин",null,"информатика",{"$nulls":3},"ДНК",null,"ОДНКР"]
[null,"И",null,"история",{"$nulls":3},"М",null,"математика"]

{"sheet":"Октябрь","index":1,"n_rows":30,"n_cols":32,"rows_kept":30,"merged":[[0,18,0,23],[18,3,18,5],[18,9,18,11],[18,16,18,31],[19,3,19,5],[19,9,19,11],[20,3,20,5],[20,9,20,11],[20,16,20,31],[21,3,21,5],[21,9,21,11],[22,3,22,5],[22,9,22,11],[23,3,23,5],[23,9,23,11],[24,3,24,5],[24,9,24,11],[25,3,25,5],[25,9,25,11],[26,3,26,5],[26,9,26,11],[27,3,27,5],[27,9,27,11],[28,3,28,5],[28,9,28,11],[29,3,29,5],[29,9,29,11]]}
[null,"ГРАФИК КОНТРОЛЬНЫХ РАБОТ МБОУ ЛИЦЕЙ №2",{"$nulls":16},"октябрь 2022"]
["классы",1,2,3,4,5,6,7,8,9,10,11,12,13,14,15,16,17,18,19,20,21,22,23,24,25,26,27,28,29,30,31]
["5А",{"$nulls":18},{"$f":"$H$30","v":"М"}]
["5Б",{"$nulls":16},{"$f":"$B$25","v":"АЯ"},null,{"$f":"$H$30","v":"М"}]
["6А",null,null,{"$f":"$H$30","v":"М"},null,null,{"$f":"$B$30","v":"И"},{"$nulls":10},{"$f":"$H$30","v":"М"},null,null,{"$f":"$B$19","v":"РЯ"},{"$nulls":5},{"$f":"$B$20","v":"Л"},{"$f":"Октябрь!O14","v":0}]
["6Б",{"$nulls":10},{"$f":"$H$30","v":"М"},null,null,{"$f":"$B$25","v":"АЯ"},{"$nulls":5},{"$f":"$B$19","v":"РЯ"}]
["7А",{"$nulls":4},{"$f":"$H$23","v":"Б"},null,null,{"$f":"$B$29","v":"Ин"},null,{"$f":"$H$19","v":"О"},{"$f":"$B$27","v":"А"},{"$nulls":3},{"$f":"$B$25","v":"АЯ"},{"$nulls":8},{"$f":"$B$19","v":"РЯ"}]
["7Б",{"$nulls":4},{"$f":"$H$20","v":"Гг"},null,null,{"$f":"$B$29","v":"Ин"},null,{"$f":"$B$30","v":"И"},{"$f":"$B$27","v":"А"},{"$nulls":5},{"$f":"$B$25","v":"АЯ"},{"$nulls":7},{"$f":"$B$19","v":"РЯ"}]
["7В",{"$nulls":4},{"$f":"$H$23","v":"Б"},{"$f":"$B$29","v":"Ин"},{"$nulls":3},{"$f":"$H$19","v":"О"},null,{"$f":"$B$27","v":"А"},null,{"$f":"$B$25","v":"АЯ"},{"$nulls":10},{"$f":"$B$19","v":"РЯ"}]
["7Г",{"$nulls":4},{"$f":"$H$20","v":"Гг"},null,{"$f":"$B$29","v":"Ин"},null,null,{"$f":"$B$30","v":"И"},null,{"$f":"$B$27","v":"А"},{"$nulls":5},{"$f":"$B$25","v":"АЯ"}]
["8А",{"$nulls":3},{"$f":"$H$21","v":"Ф"},null,{"$f":"$B$25","v":"АЯ"},{"$nulls":3},{"$f":"$B$27","v":"А"},null,{"$f":"$H$21","v":"Ф"},null,{"$f":"$B$30","v":"И"},{"$nulls":6},{"$f":"$B$29","v":"Ин"},{"$nulls":5},{"$f":"$B$19","v":"РЯ"}]
["8Б",{"$nulls":5},{"$f":"$B$25","v":"АЯ"},null,{"$f":"$H$21","v":"Ф"},null,{"$f":"$B$27","v":"А"},null,{"$f":"$H$23","v":"Б"},null,{"$f":"$H$19","v":"О"},{"$nulls":6},{"$f":"$B$29","v":"Ин"},{"$nulls":3},{"$f":"$B$19","v":"РЯ"}]
["8В",{"$nulls":5},{"$f":"$B$25","v":"АЯ"},null,{"$f":"$H$21","v":"Ф"},{"$nulls":3},{"$f":"$H$20","v":"Гг"},{"$f":"$B$27","v":"А"},{"$f":"$H$19","v":"О"},{"$nulls":9},{"$f":"$B$29","v":"Ин"},{"$f":"$B$19","v":"РЯ"}]
["9А",{"$nulls":9},{"$f":"$B$19","v":"РЯ"},{"$f":"$B$28","v":"Гм"},null,{"$f":"$B$19","v":"РЯ"},{"$nulls":3},{"$f":"$H$23","v":"Б"},{"$nulls":4},{"$f":"$B$27","v":"А"},null,{"$f":"$B$29","v":"Ин"},{"$f":"$H$21","v":"Ф"},{"$f":"$H$22","v":"Х"}]
["9Б",{"$nulls":4},{"$f":"$H$22","v":"Х"},{"$nulls":4},{"$f":"$B$19","v":"РЯ"},{"$f":"$B$28","v":"Гм"},null,{"$f":"$B$19","v":"РЯ"},{"$nulls":8},{"$f":"$B$27","v":"А"},null,{"$f":"$H$21","v":"Ф"},{"$f":"$B$29","v":"Ин"},{"$f":"$H$22","v":"Х"}]
["9В",{"$nulls":4},{"$f":"$H$21","v":"Ф"},{"$nulls":4},{"$f":"$B$19","v":"РЯ"},{"$f":"$B$28","v":"Гм"},null,{"$f":"$B$19","v":"РЯ"},{"$nulls":5},{"$f":"$H$20","v":"Гг"},null,{"$f":"$B$27","v":"А"},{"$f":"$B$29","v":"Ин"},null,null,{"$f":"$H$21","v":"Ф"},{"$f":"$H$22","v":"Х"}]
[10,{"$nulls":12},{"$f":"$B$20","v":"Л"},{"$nulls":7},{"$f":"$B$29","v":"Ин"}]
[]
[null,"РЯ",null,"русский язык",{"$nulls":3},"О",null,"обществзнан",{"$nulls":6},"административная контрольная работа (школьный уровень)"]
[null,"Л",null,"литература",{"$nulls":3},"Гг",null,"география"]
[null,"РЯт",null,"род. яз. тат",{"$nulls":3},"Ф",null,"физика",{"$nulls":6},"тематическая контрольная работа (школьный уровень)"]
[null,"РЯр",null,"род. яз. русс",{"$nulls":3},"Х",null,"химия"]
[null,"РЛт",null,"род. лит. тат",{"$nulls":3},"Б",null,"биология",{"$nulls":6},"выходные дни, каникулы"]
[null,"РЛр",null,"род. лит. русс",{"$nulls":3},"Му",null,"музыка"]
[null,"АЯ",null,"ин яз (англ)",{"$nulls":3},"Т",null,"технология",{"$nulls":6},"Всероссийская проверочная работа"]
[null,"НЯ",null,"ин яз (нем)",{"$nulls":3},"ФК",null,"физ-ра"]
[null,"А",null,"алгебра",{"$nulls":3},"ОБЖ",null,"ОБЖ"]
[null,"Гм",null,"геометрия",{"$nulls":3},"ИЗО",null,"ИЗО",{"$nulls":10},"                                                                                                                                                                                                                                                                                                                                                                                                                                                                                                                                                                                                                                                                                                                                                                                                                                                                                                                                                                                                                                                                                                                                                                                                                                                                                                                                                                                                                                                                                                                                                                                                                                                                                                                                                                                                                                                                                                                                                                                                                           "]
[null,"Ин",null,"информатика",{"$nulls":3},"ДНК",null,"ОДНКР"]
[null,"И",null,"история",{"$nulls":3},"М",null,"математика"]

{"sheet":"Ноябрь","index":2,"n_rows":30,"n_cols":32,"rows_kept":30,"merged":[[0,18,0,23],[18,3,18,5],[18,9,18,11],[18,16,18,31],[19,3,19,5],[19,9,19,11],[20,3,20,5],[20,9,20,11],[20,16,20,31],[21,3,21,5],[21,9,21,11],[22,3,22,5],[22,9,22,11],[23,3,23,5],[23,9,23,11],[24,3,24,5],[24,9,24,11],[25,3,25,5],[25,9,25,11],[26,3,26,5],[26,9,26,11],[27,3,27,5],[27,9,27,11],[28,3,28,5],[28,9,28,11],[29,3,29,5],[29,9,29,11]]}
[null,"ГРАФИК КОНТРОЛЬНЫХ РАБОТ МБОУ ЛИЦЕЙ №2",{"$nulls":16},"ноябрь 2022"]
["классы",1,2,3,4,5,6,7,8,9,10,11,12,13,14,15,16,17,18,19,20,21,22,23,24,25,26,27,28,29,30,31]
["5А",{"$nulls":8},{"$f":"$H$30","v":"М"},{"$nulls":11},{"$f":"$B$19","v":"РЯ"},null,null,{"$f":"$H$30","v":"М"}]
["5Б",{"$nulls":8},{"$f":"$H$30","v":"М"},{"$nulls":13},{"$f":"$B$25","v":"АЯ"},null,{"$f":"$H$30","v":"М"}]
["6А",{"$nulls":28},{"$f":"$B$30","v":"И"}]
["6Б",{"$nulls":14},{"$f":"$B$25","v":"АЯ"},{"$nulls":5},{"$f":"$B$19","v":"РЯ"},{"$nulls":6},{"$f":"$H$30","v":"М"},null,{"$f":"$B$30","v":"И"}]
["7А",{"$nulls":16},{"$f":"$B$25","v":"АЯ"},{"$nulls":7},{"$f":"$B$30","v":"И"}]
["7Б",{"$nulls":18},{"$f":"$B$25","v":"АЯ"},{"$nulls":5},{"$f":"$B$22","v":"РЯр"},{"$nulls":3},{"$f":"$B$30","v":"И"}]
["7В",{"$nulls":8},{"$f":"$B$19","v":"РЯ"},{"$nulls":4},{"$f":"$B$25","v":"АЯ"},{"$nulls":13},{"$f":"$B$19","v":"РЯ"}]
["7Г",{"$nulls":15},{"$f":"$B$25","v":"АЯ"},{"$nulls":12},{"$f":"$B$22","v":"РЯр"}]
["8А",{"$nulls":11},{"$f":"$B$27","v":"А"},{"$nulls":6},{"$f":"$H$22","v":"Х"},{"$nulls":4},{"$f":"$H$21","v":"Ф"},{"$f":"$B$29","v":"Ин"}]
["8Б",{"$nulls":10},{"$f":"$B$27","v":"А"},{"$nulls":7},{"$f":"$H$22","v":"Х"},{"$nulls":5},{"$f":"$B$29","v":"Ин"},{"$nulls":3},{"$f":"$H$21","v":"Ф"}]
["8В",{"$nulls":11},{"$f":"$B$27","v":"А"},{"$nulls":5},{"$f":"$H$22","v":"Х"},{"$nulls":7},{"$f":"$H$21","v":"Ф"},null,{"$f":"$B$29","v":"Ин"}]
["9А",{"$nulls":13},{"$f":"$H$20","v":"Гг"},{"$f":"$B$20","v":"Л"},null,{"$f":"$H$23","v":"Б"},null,{"$f":"$B$19","v":"РЯ"},null,null,{"$f":"$B$28","v":"Гм"},{"$f":"$B$20","v":"Л"},null,null,{"$f":"$H$19","v":"О"},null,null,{"$f":"$B$30","v":"И"}]
["9Б",{"$nulls":13},{"$f":"$H$20","v":"Гг"},{"$f":"$B$20","v":"Л"},null,{"$f":"$H$23","v":"Б"},null,{"$f":"$B$19","v":"РЯ"},null,null,{"$f":"$B$20","v":"Л"},null,{"$f":"$B$28","v":"Гм"},null,{"$f":"$B$27","v":"А"},null,null,{"$f":"$B$30","v":"И"}]
["9В",{"$nulls":14},{"$f":"$B$20","v":"Л"},null,{"$f":"$H$23","v":"Б"},{"$f":"$H$20","v":"Гг"},{"$f":"$B$19","v":"РЯ"},null,null,{"$f":"$B$20","v":"Л"},{"$f":"$H$19","v":"О"},null,null,{"$f":"$B$28","v":"Гм"},null,null,{"$f":"$B$30","v":"И"}]
[10,{"$nulls":9},{"$f":"$B$20","v":"Л"},{"$nulls":3},{"$f":"$B$27","v":"А"},{"$nulls":9},{"$f":"$B$20","v":"Л"},{"$nulls":5},{"$f":"$B$30","v":"И"}]
[]
[null,"РЯ",null,"русский язык",{"$nulls":3},"О",null,"обществзнан",{"$nulls":6},"административная контрольная работа (школьный уровень)"]
[null,"Л",null,"литература",{"$nulls":3},"Гг",null,"география"]
[null,"РЯт",null,"род. яз. тат",{"$nulls":3},"Ф",null,"физика",{"$nulls":6},"тематическая контрольная работа (школьный уровень)"]
[null,"РЯр",null,"род. яз. русс",{"$nulls":3},"Х",null,"химия"]
[null,"РЛт",null,"род. лит. тат",{"$nulls":3},"Б",null,"биология",{"$nulls":6},"выходные дни, каникулы"]
[null,"РЛр",null,"род. лит. русс",{"$nulls":3},"Му",null,"музыка"]
[null,"АЯ",null,"ин яз (англ)",{"$nulls":3},"Т",null,"технология"]
[null,"НЯ",null,"ин яз (нем)",{"$nulls":3},"ФК",null,"физ-ра"]
[null,"А",null,"алгебра",{"$nulls":3},"ОБЖ",null,"ОБЖ"]
[null,"Гм",null,"геометрия",{"$nulls":3},"ИЗО",null,"ИЗО"]
[null,"Ин",null,"информатика",{"$nulls":3},"ДНК",null,"ОДНКР"]
[null,"И",null,"история",{"$nulls":3},"М",null,"математика"]

{"sheet":"Декабрь","index":3,"n_rows":30,"n_cols":32,"rows_kept":30,"merged":[[0,18,0,23],[18,3,18,5],[18,9,18,11],[18,16,18,31],[19,3,19,5],[19,9,19,11],[20,3,20,5],[20,9,20,11],[20,16,20,31],[21,3,21,5],[21,9,21,11],[22,3,22,5],[22,9,22,11],[23,3,23,5],[23,9,23,11],[24,3,24,5],[24,9,24,11],[25,3,25,5],[25,9,25,11],[26,3,26,5],[26,9,26,11],[27,3,27,5],[27,9,27,11],[28,3,28,5],[28,9,28,11],[29,3,29,5],[29,9,29,11]]}
[null,"ГРАФИК КОНТРОЛЬНЫХ РАБОТ МБОУ ЛИЦЕЙ №2",{"$nulls":16},"декабрь 2022"]
["классы",1,2,3,4,5,6,7,8,9,10,11,12,13,14,15,16,17,18,19,20,21,22,23,24,25,26,27,28,29,30,31]
[{"$f":"Ноябрь!A3","v":"5А"},{"$nulls":11},{"$f":"$B$19","v":"РЯ"}]
[{"$f":"Ноябрь!A4","v":"5Б"},{"$nulls":11},{"$f":"$N$12","v":"РЯ"},{"$nulls":3},{"$f":"$B$20","v":"Л"},{"$f":"$B$25","v":"АЯ"}]
[{"$f":"Ноябрь!A5","v":"6А"},{"$nulls":5},{"$f":"$N$12","v":"РЯ"},null,{"$f":"$H$19","v":"О"},null,{"$f":"$H$30","v":"М"},{"$nulls":3},{"$f":"$H$20","v":"Гг"},{"$nulls":6},{"$f":"$N$12","v":"РЯ"}]
[{"$f":"Ноябрь!A6","v":"6Б"},{"$nulls":6},{"$f":"$H$19","v":"О"},{"$nulls":6},{"$f":"$H$20","v":"Гг"},{"$nulls":6},{"$f":"$B$25","v":"АЯ"}]
[{"$f":"Ноябрь!A7","v":"7А"},null,null,{"$f":"$B$20","v":"Л"},{"$nulls":4},{"$f":"$B$27","v":"А"},{"$f":"$H$23","v":"Б"},null,null,{"$f":"$B$25","v":"АЯ"},{"$f":"$H$20","v":"Гг"},{"$nulls":5},{"$f":"$H$21","v":"Ф"},null,{"$f":"$B$27","v":"А"},{"$f":"$N$12","v":"РЯ"}]
[{"$f":"Ноябрь!A8","v":"7Б"},{"$f":"$B$20","v":"Л"},{"$nulls":7},{"$f":"$B$27","v":"А"},null,null,{"$f":"$B$25","v":"АЯ"},{"$f":"$H$20","v":"Гг"},{"$f":"$H$23","v":"Б"},{"$nulls":6},{"$f":"$B$27","v":"А"},{"$f":"$N$12","v":"РЯ"},null,{"$f":"$H$21","v":"Ф"}]
[{"$f":"Ноябрь!A9","v":"7В"},{"$f":"$B$20","v":"Л"},null,{"$f":"$B$30","v":"И"},{"$nulls":4},{"$f":"$B$25","v":"АЯ"},{"$nulls":3},{"$f":"$H$23","v":"Б"},{"$f":"$B$28","v":"Гм"},{"$f":"$B$27","v":"А"},null,{"$f":"$H$20","v":"Гг"},{"$nulls":4},{"$f":"$H$21","v":"Ф"},null,{"$f":"$B$19","v":"РЯ"}]
[{"$f":"Ноябрь!A10","v":"7Г"},null,{"$f":"$B$20","v":"Л"},{"$f":"$B$30","v":"И"},{"$nulls":6},{"$f":"$B$25","v":"АЯ"},null,{"$f":"$B$28","v":"Гм"},null,{"$f":"$H$23","v":"Б"},{"$f":"$H$20","v":"Гг"},null,{"$f":"$B$27","v":"А"},{"$nulls":3},{"$f":"$H$21","v":"Ф"},{"$f":"$N$12","v":"РЯ"}]
[{"$f":"Ноябрь!A11","v":"8А"},{"$nulls":4},{"$f":"$H$19","v":"О"},{"$f":"$H$23","v":"Б"},null,{"$f":"$B$30","v":"И"},{"$f":"$H$20","v":"Гг"},{"$nulls":5},{"$f":"$N$12","v":"РЯ"},null,{"$f":"$H$23","v":"Б"},null,null,{"$f":"$B$28","v":"Гм"},{"$f":"$B$25","v":"АЯ"}]
[{"$f":"Ноябрь!A12","v":"8Б"},{"$f":"$H$23","v":"Б"},{"$nulls":3},{"$f":"$H$19","v":"О"},null,null,{"$f":"$B$30","v":"И"},{"$f":"$H$20","v":"Гг"},{"$nulls":3},"РЯ",null,{"$f":"$H$23","v":"Б"},{"$nulls":4},{"$f":"$B$28","v":"Гм"},{"$f":"$B$25","v":"АЯ"}]
[{"$f":"Ноябрь!A13","v":"8В"},null,{"$f":"$H$19","v":"О"},{"$f":"$B$30","v":"И"},null,null,{"$f":"$H$23","v":"Б"},null,null,{"$f":"$H$20","v":"Гг"},{"$nulls":4},{"$f":"$N$12","v":"РЯ"},{"$f":"$B$28","v":"Гм"},{"$nulls":6},{"$f":"$B$25","v":"АЯ"}]
[{"$f":"Ноябрь!A14","v":"9А"},{"$nulls":4},{"$f":"$N$12","v":"РЯ"},{"$nulls":3},{"$f":"$H$21","v":"Ф"},{"$nulls":4},{"$f":"$H$22","v":"Х"},{"$f":"$H$23","v":"Б"},{"$nulls":3},{"$f":"$B$29","v":"Ин"},{"$nulls":6},{"$f":"$H$20","v":"Гг"}]
[{"$f":"Ноябрь!A15","v":"9Б"},null,null,{"$f":"$H$19","v":"О"},null,{"$f":"$N$12","v":"РЯ"},null,null,{"$f":"$H$21","v":"Ф"},{"$nulls":5},{"$f":"$H$22","v":"Х"},{"$nulls":5},{"$f":"$B$29","v":"Ин"},{"$nulls":5},{"$f":"$H$20","v":"Гг"}]
[{"$f":"Ноябрь!A16","v":"9В"},{"$nulls":5},{"$f":"$N$12","v":"РЯ"},null,{"$f":"$H$21","v":"Ф"},{"$nulls":5},{"$f":"$H$22","v":"Х"},{"$f":"$H$19","v":"О"},{"$nulls":6},{"$f":"$H$20","v":"Гг"},null,{"$f":"$B$29","v":"Ин"}]
[{"$f":"Ноябрь!A17","v":10},{"$f":"$H$30","v":"М"},{"$nulls":10},{"$f":"Январь!$B$19","v":"РЯ"},{"$f":"$H$21","v":"Ф"},null,{"$f":"$H$22","v":"Х"},{"$f":"$H$23","v":"Б"},{"$nulls":6},{"$f":"$B$29","v":"Ин"}]
[]
[null,{"$f":"Январь!$B$19","v":"РЯ"},null,"русский язык",{"$nulls":3},"О",null,"обществзнан",{"$nulls":6},"административная контрольная работа (школьный уровень)"]
[null,"Л",null,"литература",{"$nulls":3},"Гг",null,"география"]
[null,"РЯт",null,"род. яз. тат",{"$nulls":3},"Ф",null,"физика",{"$nulls":6},"тематическая контрольная работа (школьный уровень)"]
[null,"РЯр",null,"род. яз. русс",{"$nulls":3},"Х",null,"химия"]
[null,"РЛт",null,"род. лит. тат",{"$nulls":3},"Б",null,"биология",{"$nulls":6},"выходные дни, каникулы"]
[null,"РЛр",null,"род. лит. русс",{"$nulls":3},"Му",null,"музыка"]
[null,"АЯ",null,"ин яз (англ)",{"$nulls":3},"Т",null,"технология"]
[null,"НЯ",null,"ин яз (нем)",{"$nulls":3},"ФК",null,"физ-ра"]
[null,"А",null,"алгебра",{"$nulls":3},"ОБЖ",null,"ОБЖ"]
[null,"Гм",null,"геометрия",{"$nulls":3},"ИЗО",null,"ИЗО"]
[null,"Ин",null,"информатика",{"$nulls":3},"ДНК",null,"ОДНКР"]
[null,"И",null,"история",{"$nulls":3},"М",null,"математика"]

{"sheet":"Январь","index":4,"n_rows":30,"n_cols":32,"rows_kept":30,"merged":[[0,18,0,23],[18,3,18,5],[18,9,18,11],[18,16,18,31],[19,3,19,5],[19,9,19,11],[20,3,20,5],[20,9,20,11],[20,16,20,31],[21,3,21,5],[21,9,21,11],[22,3,22,5],[22,9,22,11],[23,3,23,5],[23,9,23,11],[24,3,24,5],[24,9,24,11],[25,3,25,5],[25,9,25,11],[26,3,26,5],[26,9,26,11],[27,3,27,5],[27,9,27,11],[28,3,28,5],[28,9,28,11],[29,3,29,5],[29,9,29,11]]}
[null,"ГРАФИК КОНТРОЛЬНЫХ РАБОТ МБОУ ЛИЦЕЙ №2",{"$nulls":16},"январь 2023"]
["классы",1,2,3,4,5,6,7,8,9,10,11,12,13,14,15,16,17,18,19,20,21,22,23,24,25,26,27,28,29,30,31]
[{"$f":"Ноябрь!A3","v":"5А"},{"$nulls":20},{"$f":"$H$23","v":"Б"},null,{"$f":"$H$20","v":"Гг"}]
[{"$f":"Ноябрь!A4","v":"5Б"},{"$nulls":18},{"$f":"$H$23","v":"Б"},null,{"$f":"$B$25","v":"АЯ"},{"$nulls":3},{"$f":"$H$20","v":"Гг"}]
[{"$f":"Ноябрь!A5","v":"6А"},{"$nulls":12},{"$f":"$B$20","v":"Л"},null,null,{"$f":"$B$19","v":"РЯ"},{"$f":"$H$23","v":"Б"},{"$nulls":7},{"$f":"$H$30","v":"М"}]
[{"$f":"Ноябрь!A6","v":"6Б"},{"$nulls":11},{"$f":"$B$20","v":"Л"},{"$nulls":3},{"$f":"$B$19","v":"РЯ"},{"$nulls":3},{"$f":"$H$23","v":"Б"},{"$nulls":5},{"$f":"Февраль!$H$30","v":"М"}]
[{"$f":"Ноябрь!A7","v":"7А"},{"$nulls":27},{"$f":"$B$20","v":"Л"}]
[{"$f":"Ноябрь!A8","v":"7Б"},{"$nulls":17},{"$f":"$B$25","v":"АЯ"},{"$nulls":7},{"$f":"$B$20","v":"Л"},{"$f":"$B$22","v":"РЯр"},{"$nulls":3},{"$f":"$H$19","v":"О"}]
[{"$f":"Ноябрь!A9","v":"7В"},{"$nulls":9},{"$f":"$B$19","v":"РЯ"},{"$nulls":17},{"$f":"$B$20","v":"Л"}]
[{"$f":"Ноябрь!A10","v":"7Г"},{"$nulls":25},{"$f":"$B$22","v":"РЯр"},{"$f":"$B$20","v":"Л"}]
[{"$f":"Ноябрь!A11","v":"8А"},{"$nulls":24},{"$f":"$B$28","v":"Гм"},null,null,{"$f":"$H$22","v":"Х"},null,{"$f":"$B$27","v":"А"}]
[{"$f":"Ноябрь!A12","v":"8Б"},{"$nulls":24},{"$f":"$B$28","v":"Гм"},null,null,{"$f":"$H$22","v":"Х"},null,{"$f":"$B$27","v":"А"}]
[{"$f":"Ноябрь!A13","v":"8В"},{"$nulls":23},{"$f":"$B$28","v":"Гм"},null,null,{"$f":"$H$22","v":"Х"},{"$f":"$B$30","v":"И"},null,{"$f":"$B$27","v":"А"}]
[{"$f":"Ноябрь!A14","v":"9А"},{"$nulls":15},{"$f":"$H$23","v":"Б"},{"$f":"$B$19","v":"РЯ"},{"$nulls":3},{"$f":"$B$28","v":"Гм"},{"$nulls":8},{"$f":"$B$19","v":"РЯ"}]
[{"$f":"Ноябрь!A15","v":"9Б"},{"$nulls":15},{"$f":"$H$23","v":"Б"},{"$f":"$B$19","v":"РЯ"},{"$nulls":3},{"$f":"$B$28","v":"Гм"},{"$nulls":8},{"$f":"$B$19","v":"РЯ"}]
[{"$f":"Ноябрь!A16","v":"9В"},{"$nulls":15},{"$f":"$H$23","v":"Б"},null,{"$f":"$B$19","v":"РЯ"},null,null,{"$f":"$B$28","v":"Гм"},{"$nulls":9},{"$f":"$B$19","v":"РЯ"}]
[{"$f":"Ноябрь!A17","v":10},{"$nulls":11},{"$f":"$H$30","v":"М"},{"$nulls":7},{"$f":"$B$19","v":"РЯ"}]
[]
[null,"РЯ",null,"русский язык",{"$nulls":3},"О",null,"обществзнан",{"$nulls":6},"административная контрольная работа (школьный уровень)"]
[null,"Л",null,"литература",{"$nulls":3},"Гг",null,"география"]
[null,"РЯт",null,"род. яз. тат",{"$nulls":3},"Ф",null,"физика",{"$nulls":6},"тематическая контрольная работа (школьный уровень)"]
[null,"РЯр",null,"род. яз. русс",{"$nulls":3},"Х",null,"химия"]
[null,"РЛт",null,"род. лит. тат",{"$nulls":3},"Б",null,"биология",{"$nulls":6},"выходные дни, каникулы"]
[null,"РЛр",null,"род. лит. русс",{"$nulls":3},"Му",null,"музыка"]
[null,"АЯ",null,"ин яз (англ)",{"$nulls":3},"Т",null,"технология"]
[null,"НЯ",null,"ин яз (нем)",{"$nulls":3},"ФК",null,"физ-ра"]
[null,"А",null,"алгебра",{"$nulls":3},"ОБЖ",null,"ОБЖ",{"$nulls":8}," "]
[null,"Гм",null,"геометрия",{"$nulls":3},"ИЗО",null,"ИЗО"]
[null,"Ин",null,"информатика",{"$nulls":3},"ДНК",null,"ОДНКР"]
[null,"И",null,"история",{"$nulls":3},"М",null,"математика"]

{"sheet":"Февраль","index":5,"n_rows":30,"n_cols":29,"rows_kept":30,"merged":[[0,18,0,23],[18,3,18,5],[18,9,18,11],[18,16,18,31],[19,3,19,5],[19,9,19,11],[20,3,20,5],[20,9,20,11],[20,16,20,31],[21,3,21,5],[21,9,21,11],[22,3,22,5],[22,9,22,11],[23,3,23,5],[23,9,23,11],[24,3,24,5],[24,9,24,11],[25,3,25,5],[25,9,25,11],[26,3,26,5],[26,9,26,11],[27,3,27,5],[27,9,27,11],[28,3,28,5],[28,9,28,11],[29,3,29,5],[29,9,29,11]]}
[null,"ГРАФИК КОНТРОЛЬНЫХ РАБОТ МБОУ ЛИЦЕЙ №2",{"$nulls":16},"февраль 2023"]
["классы",1,2,3,4,5,6,7,8,9,10,11,12,13,14,15,16,17,18,19,20,21,22,23,24,25,26,27,28]
[{"$f":"Ноябрь!A3","v":"5А"},{"$nulls":14},{"$f":"$H$30","v":"М"}]
[{"$f":"Ноябрь!A4","v":"5Б"},{"$f":"$B$19","v":"РЯ"},{"$nulls":12},{"$f":"$H$30","v":"М"},{"$nulls":13},{"$f":"$H$30","v":"М"}]
[{"$f":"Ноябрь!A5","v":"6А"},null,{"$f":"$B$20","v":"Л"},{"$nulls":6},{"$f":"$H$19","v":"О"},{"$nulls":4},{"$f":"$B$19","v":"РЯ"},{"$nulls":5},{"$f":"$H$30","v":"М"},{"$f":"$B$30","v":"И"}]
[{"$f":"Ноябрь!A6","v":"6Б"},{"$f":"$H$19","v":"О"},null,{"$f":"$B$25","v":"АЯ"},null,null,{"$f":"$B$19","v":"РЯ"},{"$nulls":7},{"$f":"$B$19","v":"РЯ"},{"$nulls":7},{"$f":"$B$30","v":"И"},{"$nulls":5},{"$f":"$H$30","v":"М"}]
[{"$f":"Ноябрь!A7","v":"7А"},null,null,{"$f":"$B$27","v":"А"},{"$nulls":3},{"$f":"$B$28","v":"Гм"},null,{"$f":"$B$25","v":"АЯ"},null,{"$f":"$H$19","v":"О"},null,{"$f":"$B$19","v":"РЯ"},{"$nulls":4},{"$f":"$B$29","v":"Ин"}]
[{"$f":"Ноябрь!A8","v":"7Б"},null,null,{"$f":"$B$27","v":"А"},{"$nulls":3},{"$f":"$B$28","v":"Гм"},{"$nulls":3},{"$f":"$B$25","v":"АЯ"},null,{"$f":"$B$19","v":"РЯ"},{"$nulls":4},{"$f":"$B$29","v":"Ин"}]
[{"$f":"Ноябрь!A9","v":"7В"},null,null,{"$f":"$B$27","v":"А"},null,null,{"$f":"$B$25","v":"АЯ"},{"$f":"$B$28","v":"Гм"},null,null,{"$f":"$B$19","v":"РЯ"},{"$f":"$B$19","v":"РЯ"},{"$nulls":3},{"$f":"$H$19","v":"О"},{"$f":"$B$29","v":"Ин"},{"$nulls":11},{"$f":"$B$30","v":"И"}]
[{"$f":"Ноябрь!A10","v":"7Г"},null,{"$f":"$B$28","v":"Гм"},{"$nulls":5},{"$f":"$B$27","v":"А"},{"$f":"$H$19","v":"О"},{"$nulls":8},{"$f":"$B$29","v":"Ин"},{"$nulls":8},{"$f":"$B$28","v":"Гм"},{"$f":"$B$30","v":"И"}]
[{"$f":"Ноябрь!A11","v":"8А"},{"$nulls":7},{"$f":"$B$20","v":"Л"},null,null,{"$f":"$H$23","v":"Б"},{"$nulls":3},{"$f":"$H$21","v":"Ф"},{"$f":"$B$19","v":"РЯ"},{"$f":"$H$30","v":"М"},null,null,{"$f":"$B$30","v":"И"},{"$nulls":3},{"$f":"$B$27","v":"А"}]
[{"$f":"Ноябрь!A12","v":"8Б"},{"$nulls":8},{"$f":"$H$23","v":"Б"},null,{"$f":"$B$20","v":"Л"},null,null,{"$f":"$H$21","v":"Ф"},null,{"$f":"$B$19","v":"РЯ"},{"$f":"$H$30","v":"М"},null,null,{"$f":"$B$30","v":"И"}]
[{"$f":"Ноябрь!A13","v":"8В"},null,{"$f":"$B$20","v":"Л"},{"$f":"Март!$H$19","v":"О"},{"$nulls":3},{"$f":"$H$23","v":"Б"},{"$f":"$B$25","v":"АЯ"},{"$nulls":4},{"$f":"$H$21","v":"Ф"},null,{"$f":"$B$19","v":"РЯ"},{"$nulls":4},{"$f":"$H$30","v":"М"}]
[{"$f":"Ноябрь!A14","v":"9А"},{"$nulls":12},{"$f":"$B$27","v":"А"},{"$nulls":4},{"$f":"$H$19","v":"О"}]
[{"$f":"Ноябрь!A15","v":"9Б"},{"$nulls":5},{"$f":"$B$27","v":"А"},{"$nulls":11},{"$f":"$H$19","v":"О"},{"$nulls":5},{"$f":"$B$27","v":"А"},null,null,{"$f":"$H$21","v":"Ф"}]
[{"$f":"Ноябрь!A16","v":"9В"},{"$nulls":5},{"$f":"$B$28","v":"Гм"},{"$nulls":13},{"$f":"$B$28","v":"Гм"},{"$nulls":6},{"$f":"$H$21","v":"Ф"}]
[{"$f":"Ноябрь!A17","v":10},{"$nulls":5},{"$f":"$B$27","v":"А"},{"$nulls":3},{"$f":"$H$23","v":"Б"},{"$nulls":7},{"$f":"$H$21","v":"Ф"},{"$nulls":8},{"$f":"$B$27","v":"А"}]
[]
[null,"РЯ",null,"русский язык",{"$nulls":3},"О",null,"обществзнан",{"$nulls":6},"административная контрольная работа (школьный уровень)"]
[null,"Л",null,"литература",{"$nulls":3},"Гг",null,"география"]
[null,"РЯт",null,"род. яз. тат",{"$nulls":3},"Ф",null,"физика",{"$nulls":6},"тематическая контрольная работа (школьный уровень)"]
[null,"РЯр",null,"род. яз. русс",{"$nulls":3},"Х",null,"химия"]
[null,"РЛт",null,"род. лит. тат",{"$nulls":3},"Б",null,"биология",{"$nulls":6},"выходные дни, каникулы"]
[null,"РЛр",null,"род. лит. русс",{"$nulls":3},"Му",null,"музыка"]
[null,"АЯ",null,"ин яз (англ)",{"$nulls":3},"Т",null,"технология"]
[null,"НЯ",null,"ин яз (нем)",{"$nulls":3},"ФК",null,"физ-ра"]
[null,"А",null,"алгебра",{"$nulls":3},"ОБЖ",null,"ОБЖ"]
[null,"Гм",null,"геометрия",{"$nulls":3},"ИЗО",null,"ИЗО"]
[null,"Ин",null,"информатика",{"$nulls":3},"ДНК",null,"ОДНКР"]
[null,"И",null,"история",{"$nulls":3},"М",null,"математика"]

{"sheet":"Март","index":6,"n_rows":30,"n_cols":32,"rows_kept":30,"merged":[[0,18,0,23],[18,3,18,5],[18,9,18,11],[18,16,18,31],[19,3,19,5],[19,9,19,11],[20,3,20,5],[20,9,20,11],[20,16,20,31],[21,3,21,5],[21,9,21,11],[22,3,22,5],[22,9,22,11],[22,16,22,31],[23,3,23,5],[23,9,23,11],[24,3,24,5],[24,9,24,11],[25,3,25,5],[25,9,25,11],[26,3,26,5],[26,9,26,11],[27,3,27,5],[27,9,27,11],[28,3,28,5],[28,9,28,11],[29,3,29,5],[29,9,29,11]]}
[null,"ГРАФИК КОНТРОЛЬНЫХ РАБОТ МБОУ ЛИЦЕЙ №2",{"$nulls":16},"март 2023"]
["классы",1,2,3,4,5,6,7,8,9,10,11,12,13,14,15,16,17,18,19,20,21,22,23,24,25,26,27,28,29,30,31]
[{"$f":"Ноябрь!A3","v":"5А"},{"$f":"$H$30","v":"М"}]
[{"$f":"Ноябрь!A4","v":"5Б"},null,null,{"$f":"$B$25","v":"АЯ"}]
[{"$f":"Ноябрь!A5","v":"6А"},{"$nulls":5},{"$f":"$B$19","v":"РЯ"},{"$nulls":8},{"$f":"$H$20","v":"Гг"},{"$nulls":6},{"$f":"$H$30","v":"М"}]
[{"$f":"Ноябрь!A6","v":"6Б"},{"$nulls":5},{"$f":"$B$19","v":"РЯ"},{"$nulls":8},{"$f":"$H$20","v":"Гг"},null,{"$f":"$B$22","v":"РЯр"},{"$nulls":3},{"$f":"$B$25","v":"АЯ"}]
[{"$f":"Ноябрь!A7","v":"7А"},{"$f":"$B$28","v":"Гм"},null,{"$f":"$B$30","v":"И"},{"$nulls":3},{"$f":"$B$27","v":"А"},null,{"$f":"$B$25","v":"АЯ"},{"$nulls":6},{"$f":"$H$21","v":"Ф"},null,{"$f":"$B$29","v":"Ин"}]
[{"$f":"Ноябрь!A8","v":"7Б"},{"$f":"$B$28","v":"Гм"},{"$f":"$B$30","v":"И"},{"$nulls":3},{"$f":"$B$25","v":"АЯ"},{"$f":"$B$27","v":"А"},{"$nulls":6},{"$f":"$H$21","v":"Ф"},{"$nulls":3},{"$f":"$B$29","v":"Ин"}]
[{"$f":"Ноябрь!A9","v":"7В"},{"$f":"$B$28","v":"Гм"},null,{"$f":"$B$25","v":"АЯ"},null,null,{"$f":"$B$27","v":"А"},{"$nulls":8},{"$f":"$H$21","v":"Ф"},{"$f":"$B$29","v":"Ин"}]
[{"$f":"Ноябрь!A10","v":"7Г"},null,null,{"$f":"$B$25","v":"АЯ"},{"$nulls":6},{"$f":"$B$27","v":"А"},{"$nulls":6},{"$f":"$H$21","v":"Ф"},{"$f":"$B$29","v":"Ин"}]
[{"$f":"Ноябрь!A11","v":"8А"},{"$f":"$B$28","v":"Гм"},{"$nulls":14},{"$f":"$H$21","v":"Ф"},{"$nulls":3},{"$f":"$B$27","v":"А"}]
[{"$f":"Ноябрь!A12","v":"8Б"},{"$f":"$B$28","v":"Гм"},{"$nulls":12},{"$f":"$H$21","v":"Ф"},{"$nulls":7},{"$f":"$B$27","v":"А"}]
[{"$f":"Ноябрь!A13","v":"8В"},{"$f":"$B$28","v":"Гм"},{"$nulls":11},{"$f":"$H$21","v":"Ф"},{"$nulls":6},{"$f":"$B$27","v":"А"}]
[{"$f":"Ноябрь!A14","v":"9А"},{"$f":"$H$21","v":"Ф"},null,{"$f":"$H$23","v":"Б"},{"$f":"$B$28","v":"Гм"},null,null,{"$f":"$B$20","v":"Л"},null,{"$f":"$H$20","v":"Гг"},{"$nulls":3},{"$f":"$B$19","v":"РЯ"}]
[{"$f":"Ноябрь!A15","v":"9Б"},null,null,{"$f":"$H$23","v":"Б"},{"$f":"$B$28","v":"Гм"},null,null,{"$f":"$B$20","v":"Л"},null,{"$f":"$H$20","v":"Гг"},{"$nulls":3},{"$f":"$B$19","v":"РЯ"}]
[{"$f":"Ноябрь!A16","v":"9В"},null,null,{"$f":"$H$23","v":"Б"},{"$f":"$B$28","v":"Гм"},null,null,{"$f":"$B$20","v":"Л"},null,null,{"$f":"$H$20","v":"Гг"},{"$nulls":3},{"$f":"$B$19","v":"РЯ"}]
[{"$f":"Ноябрь!A17","v":10},null,{"$f":"$B$20","v":"Л"},{"$nulls":6},{"$f":"$H$30","v":"М"},{"$nulls":3},{"$f":"$B$20","v":"Л"},{"$nulls":8},{"$f":"$B$27","v":"А"},null,{"$f":"$H$23","v":"Б"}]
[]
[null,"РЯ",null,"русский язык",{"$nulls":3},"О",null,"обществзнан",{"$nulls":6},"административная контрольная работа (школьный уровень)"]
[null,"Л",null,"литература",{"$nulls":3},"Гг",null,"география"]
[null,"РЯт",null,"род. яз. тат",{"$nulls":3},"Ф",null,"физика",{"$nulls":6},"тематическая контрольная работа (школьный уровень)"]
[null,"РЯр",null,"род. яз. русс",{"$nulls":3},"Х",null,"химия"]
[null,"РЛт",null,"род. лит. тат",{"$nulls":3},"Б",null,"биология",{"$nulls":6},"ВПР (федеральный уровень)"]
[null,"РЛр",null,"род. лит. русс",{"$nulls":3},"Му",null,"музыка"]
[null,"АЯ",null,"ин яз (англ)",{"$nulls":3},"Т",null,"технология",{"$nulls":6},"выходные дни, каникулы"]
[null,"НЯ",null,"ин яз (нем)",{"$nulls":3},"ФК",null,"физ-ра"]
[null,"А",null,"алгебра",{"$nulls":3},"ОБЖ",null,"ОБЖ"]
[null,"Гм",null,"геометрия",{"$nulls":3},"ИЗО",null,"ИЗО"]
[null,"Ин",null,"информатика",{"$nulls":3},"ДНК",null,"ОДНКР"]
[null,"И",null,"история",{"$nulls":3},"М",null,"математика"]

{"sheet":"Апрель","index":7,"n_rows":30,"n_cols":31,"rows_kept":30,"merged":[[0,18,0,23],[18,3,18,5],[18,9,18,11],[18,16,18,31],[19,3,19,5],[19,9,19,11],[20,3,20,5],[20,9,20,11],[20,16,20,31],[21,3,21,5],[21,9,21,11],[22,3,22,5],[22,9,22,11],[22,16,22,31],[23,3,23,5],[23,9,23,11],[24,3,24,5],[24,9,24,11],[25,3,25,5],[25,9,25,11],[26,3,26,5],[26,9,26,11],[27,3,27,5],[27,9,27,11],[28,3,28,5],[28,9,28,11],[29,3,29,5],[29,9,29,11]]}
[null,"ГРАФИК КОНТРОЛЬНЫХ РАБОТ МБОУ ЛИЦЕЙ №2",{"$nulls":16},"апрель 2023"]
["классы",1,2,3,4,5,6,7,8,9,10,11,12,13,14,15,16,17,18,19,20,21,22,23,24,25,26,27,28,29,30]
[{"$f":"Ноябрь!A3","v":"5А"},{"$nulls":17},{"$f":"$H$30","v":"М"},{"$nulls":10},{"$f":"$H$30","v":"М"}]
[{"$f":"Ноябрь!A4","v":"5Б"},{"$nulls":7},{"$f":"$B$25","v":"АЯ"},{"$nulls":5},{"$f":"$H$30","v":"М"},{"$nulls":4},{"$f":"$B$19","v":"РЯ"},{"$nulls":8},{"$f":"$H$30","v":"М"}]
[{"$f":"Ноябрь!A5","v":"6А"},{"$nulls":11},{"$f":"$B$19","v":"РЯ"},{"$nulls":4},{"$f":"$H$30","v":"М"},{"$nulls":3},{"$f":"Май!$B$30","v":"И"}]
[{"$f":"Ноябрь!A6","v":"6Б"},{"$nulls":11},{"$f":"$B$19","v":"РЯ"},{"$nulls":12},{"$f":"$B$25","v":"АЯ"}]
[{"$f":"Ноябрь!A7","v":"7А"},{"$nulls":5},{"$f":"$B$19","v":"РЯ"},{"$nulls":14},{"$f":"$B$28","v":"Гм"}]
[{"$f":"Ноябрь!A8","v":"7Б"},{"$nulls":5},{"$f":"$B$19","v":"РЯ"},{"$nulls":5},{"$f":"$B$25","v":"АЯ"},{"$nulls":8},{"$f":"$B$28","v":"Гм"}]
[{"$f":"Ноябрь!A9","v":"7В"},{"$nulls":6},{"$f":"$B$19","v":"РЯ"},{"$nulls":11},{"$f":"$B$28","v":"Гм"},{"$nulls":7},{"$f":"$B$25","v":"АЯ"}]
[{"$f":"Ноябрь!A10","v":"7Г"},{"$nulls":5},{"$f":"$B$19","v":"РЯ"},{"$nulls":10},{"$f":"$B$28","v":"Гм"},{"$nulls":10},{"$f":"$B$25","v":"АЯ"}]
[{"$f":"Ноябрь!A11","v":"8А"},{"$nulls":7},{"$f":"$H$23","v":"Б"},{"$nulls":4},{"$f":"$H$21","v":"Ф"},null,{"$f":"$B$19","v":"РЯ"},{"$nulls":13},{"$f":"$H$23","v":"Б"}]
[{"$f":"Ноябрь!A12","v":"8Б"},{"$nulls":7},{"$f":"$H$23","v":"Б"},{"$nulls":5},{"$f":"$B$19","v":"РЯ"},{"$f":"$H$21","v":"Ф"},{"$nulls":4},{"$f":"$H$23","v":"Б"}]
[{"$f":"Ноябрь!A13","v":"8В"},{"$nulls":6},{"$f":"$H$23","v":"Б"},{"$nulls":6},{"$f":"$B$19","v":"РЯ"},{"$f":"$H$21","v":"Ф"},{"$nulls":4},{"$f":"$H$23","v":"Б"}]
[{"$f":"Ноябрь!A14","v":"9А"},{"$nulls":7},{"$f":"$B$28","v":"Гм"},{"$nulls":3},{"$f":"$H$23","v":"Б"},null,{"$f":"$B$19","v":"РЯ"},{"$nulls":5},{"$f":"$B$27","v":"А"},{"$nulls":8},{"$f":"$H$21","v":"Ф"}]
[{"$f":"Ноябрь!A15","v":"9Б"},{"$nulls":7},{"$f":"$B$28","v":"Гм"},{"$nulls":3},{"$f":"$H$23","v":"Б"},null,{"$f":"$B$19","v":"РЯ"},null,null,{"$f":"$B$27","v":"А"},{"$nulls":10},{"$f":"$B$27","v":"А"},{"$f":"$H$21","v":"Ф"}]
[{"$f":"Ноябрь!A16","v":"9В"},{"$nulls":7},{"$f":"$B$28","v":"Гм"},{"$nulls":3},{"$f":"$H$23","v":"Б"},null,null,{"$f":"$B$19","v":"РЯ"},null,{"$f":"$B$27","v":"А"},{"$nulls":11},{"$f":"$H$21","v":"Ф"}]
[{"$f":"Ноябрь!A17","v":10},{"$nulls":19},{"$f":"$B$20","v":"Л"}]
[]
[null,"РЯ",null,"русский язык",{"$nulls":3},"О",null,"обществзнан",{"$nulls":6},"административная контрольная работа (школьный уровень)"]
[null,"Л",null,"литература",{"$nulls":3},"Гг",null,"география"]
[null,"РЯт",null,"род. яз. тат",{"$nulls":3},"Ф",null,"физика",{"$nulls":6},"тематическая контрольная работа (школьный уровень)"]
[null,"РЯр",null,"род. яз. русс",{"$nulls":3},"Х",null,"химия"]
[null,"РЛт",null,"род. лит. тат",{"$nulls":3},"Б",null,"биология",{"$nulls":6},"ВПР (федеральный уровень)"]
[null,"РЛр",null,"род. лит. русс",{"$nulls":3},"Му",null,"музыка"]
[null,"АЯ",null,"ин яз (англ)",{"$nulls":3},"Т",null,"технология",{"$nulls":6},"выходные дни, каникулы"]
[null,"НЯ",null,"ин яз (нем)",{"$nulls":3},"ФК",null,"физ-ра"]
[null,"А",null,"алгебра",{"$nulls":3},"ОБЖ",null,"ОБЖ"]
[null,"Гм",null,"геометрия",{"$nulls":3},"ИЗО",null,"ИЗО"]
[null,"Ин",null,"информатика",{"$nulls":3},"ДНК",null,"ОДНКР"]
[null,"И",null,"история",{"$nulls":3},"М",null,"математика"]

{"sheet":"Май","index":8,"n_rows":30,"n_cols":32,"rows_kept":30,"merged":[[0,18,0,23],[18,3,18,5],[18,9,18,11],[18,16,18,31],[19,3,19,5],[19,9,19,11],[20,3,20,5],[20,9,20,11],[20,16,20,31],[21,3,21,5],[21,9,21,11],[22,3,22,5],[22,9,22,11],[22,16,22,31],[23,3,23,5],[23,9,23,11],[24,3,24,5],[24,9,24,11],[25,3,25,5],[25,9,25,11],[26,3,26,5],[26,9,26,11],[27,3,27,5],[27,9,27,11],[28,3,28,5],[28,9,28,11],[29,3,29,5],[29,9,29,11]]}
[null,"ГРАФИК КОНТРОЛЬНЫХ РАБОТ МБОУ ЛИЦЕЙ №2",{"$nulls":16},"май 2023"]
["классы",1,2,3,4,5,6,7,8,9,10,11,12,13,14,15,16,17,18,19,20,21,22,23,24,25,26,27,28,29,30,31]
[{"$f":"Ноябрь!A3","v":"5А"},{"$nulls":4},{"$f":"$H$29","v":"ДНК"},{"$nulls":5},{"$f":"$H$30","v":"М"},{"$nulls":3},{"$f":"$H$20","v":"Гг"},{"$f":"$B$19","v":"РЯ"},{"$f":"$B$25","v":"АЯ"},{"$f":"$H$30","v":"М"},{"$f":"$B$21","v":"РЯт"}]
[{"$f":"Ноябрь!A4","v":"5Б"},{"$nulls":4},{"$f":"$H$29","v":"ДНК"},{"$nulls":5},{"$f":"$H$30","v":"М"},{"$nulls":3},{"$f":"$H$20","v":"Гг"},{"$f":"$B$19","v":"РЯ"},{"$f":"$B$25","v":"АЯ"},{"$f":"$H$30","v":"М"},{"$f":"$B$21","v":"РЯт"}]
[{"$f":"Ноябрь!A5","v":"6А"},{"$nulls":5},{"$f":"$B$20","v":"Л"},{"$nulls":3},{"$f":"$H$20","v":"Гг"},null,{"$f":"$B$21","v":"РЯт"},{"$nulls":5},{"$f":"$H$30","v":"М"},{"$nulls":4},{"$f":"$H$23","v":"Б"},{"$f":"$B$19","v":"РЯ"},{"$f":"$B$25","v":"АЯ"}]
[{"$f":"Ноябрь!A6","v":"6Б"},null,{"$f":"$B$20","v":"Л"},null,{"$f":"$H$30","v":"М"},{"$f":"$H$23","v":"Б"},{"$nulls":4},{"$f":"$H$20","v":"Гг"},{"$f":"$B$20","v":"Л"},{"$f":"$B$21","v":"РЯт"},{"$nulls":4},{"$f":"$B$30","v":"И"},null,{"$f":"$B$25","v":"АЯ"},{"$nulls":4},{"$f":"$B$19","v":"РЯ"},{"$f":"$H$30","v":"М"}]
[{"$f":"Ноябрь!A7","v":"7А"},null,null,{"$f":"$B$19","v":"РЯ"},{"$f":"$B$25","v":"АЯ"},null,{"$f":"$H$19","v":"О"},{"$nulls":5},{"$f":"$B$27","v":"А"},{"$f":"$B$29","v":"Ин"},null,null,{"$f":"$H$20","v":"Гг"},null,{"$f":"$B$19","v":"РЯ"},{"$f":"$H$23","v":"Б"},{"$f":"$B$25","v":"АЯ"},null,null,{"$f":"$B$28","v":"Гм"},{"$f":"$B$21","v":"РЯт"},{"$f":"$B$27","v":"А"},null,{"$f":"$H$21","v":"Ф"}]
[{"$f":"Ноябрь!A8","v":"7Б"},null,{"$f":"$H$19","v":"О"},null,{"$f":"$B$19","v":"РЯ"},{"$nulls":7},{"$f":"$B$27","v":"А"},{"$f":"$B$29","v":"Ин"},null,null,{"$f":"$H$20","v":"Гг"},{"$f":"$H$23","v":"Б"},{"$f":"$B$19","v":"РЯ"},{"$nulls":3},{"$f":"$B$25","v":"АЯ"},{"$f":"$B$28","v":"Гм"},{"$f":"$B$21","v":"РЯт"},{"$f":"$B$27","v":"А"},null,{"$f":"$H$21","v":"Ф"}]
[{"$f":"Ноябрь!A9","v":"7В"},null,null,{"$f":"$H$19","v":"О"},{"$f":"$B$20","v":"Л"},{"$f":"$B$29","v":"Ин"},{"$nulls":9},{"$f":"$B$25","v":"АЯ"},{"$f":"$H$20","v":"Гг"},{"$f":"$B$28","v":"Гм"},null,{"$f":"$B$19","v":"РЯ"},null,null,{"$f":"$B$27","v":"А"},{"$f":"$B$21","v":"РЯт"},{"$f":"$H$21","v":"Ф"},{"$f":"$H$23","v":"Б"}]
[{"$f":"Ноябрь!A10","v":"7Г"},{"$nulls":3},{"$f":"$B$19","v":"РЯ"},{"$nulls":6},{"$f":"$H$19","v":"О"},null,{"$f":"$B$29","v":"Ин"},null,{"$f":"$H$20","v":"Гг"},{"$f":"$B$28","v":"Гм"},{"$f":"$B$25","v":"АЯ"},{"$f":"$B$19","v":"РЯ"},{"$f":"$H$21","v":"Ф"},null,null,{"$f":"$B$27","v":"А"},{"$f":"$B$21","v":"РЯт"},{"$f":"$H$23","v":"Б"},{"$nulls":4},{"$f":"$B$27","v":"А"}]
[{"$f":"Ноябрь!A11","v":"8А"},{"$nulls":4},{"$f":"$B$26","v":"НЯ"},null,null,{"$f":"$H$19","v":"О"},null,{"$f":"$B$28","v":"Гм"},null,{"$f":"$B$29","v":"Ин"},{"$f":"$H$20","v":"Гг"},null,{"$f":"$B$27","v":"А"},null,{"$f":"$B$19","v":"РЯ"},null,{"$f":"$B$20","v":"Л"},null,null,{"$f":"$B$21","v":"РЯт"},null,{"$f":"$H$21","v":"Ф"},{"$f":"$B$25","v":"АЯ"},{"$f":"$B$27","v":"А"},null,null,{"$f":"$H$23","v":"Б"}]
[{"$f":"Ноябрь!A12","v":"8Б"},{"$nulls":4},{"$f":"$B$26","v":"НЯ"},null,null,{"$f":"$H$19","v":"О"},null,{"$f":"$B$28","v":"Гм"},null,{"$f":"$B$29","v":"Ин"},{"$f":"$H$20","v":"Гг"},null,{"$f":"$B$27","v":"А"},null,{"$f":"$B$19","v":"РЯ"},null,null,{"$f":"$B$20","v":"Л"},null,{"$f":"$B$21","v":"РЯт"},{"$f":"$H$21","v":"Ф"},null,{"$f":"$B$25","v":"АЯ"},{"$f":"$B$27","v":"А"},null,null,{"$f":"$H$23","v":"Б"}]
[{"$f":"Ноябрь!A13","v":"8В"},{"$nulls":4},{"$f":"$B$26","v":"НЯ"},{"$nulls":4},{"$f":"$B$28","v":"Гм"},null,{"$f":"$H$19","v":"О"},{"$f":"$H$20","v":"Гг"},null,{"$f":"$B$27","v":"А"},{"$f":"$B$19","v":"РЯ"},null,{"$f":"$B$20","v":"Л"},null,{"$f":"$H$21","v":"Ф"},null,{"$f":"$B$22","v":"РЯр"},{"$nulls":3},{"$f":"$B$27","v":"А"},{"$f":"$B$25","v":"АЯ"},null,{"$f":"$H$23","v":"Б"}]
[{"$f":"Ноябрь!A14","v":"9А"},null,null,{"$f":"$H$22","v":"Х"},{"$nulls":8},{"$f":"$B$30","v":"И"},{"$f":"$H$21","v":"Ф"},null,{"$f":"$B$26","v":"НЯ"},{"$f":"$B$20","v":"Л"},{"$f":"$B$21","v":"РЯт"},{"$f":"$B$27","v":"А"},{"$f":"$B$19","v":"РЯ"},null,null,{"$f":"$B$29","v":"Ин"},{"$f":"$B$25","v":"АЯ"}]
[{"$f":"Ноябрь!A15","v":"9Б"},null,{"$f":"$B$26","v":"НЯ"},{"$f":"$H$22","v":"Х"},{"$nulls":6},{"$f":"$B$19","v":"РЯ"},null,{"$f":"$B$30","v":"И"},null,null,{"$f":"$H$21","v":"Ф"},{"$f":"$B$20","v":"Л"},{"$f":"$B$21","v":"РЯт"},null,{"$f":"$B$27","v":"А"},{"$f":"$B$29","v":"Ин"},null,null,{"$f":"$B$25","v":"АЯ"}]
[{"$f":"Ноябрь!A16","v":"9В"},null,null,{"$f":"$H$22","v":"Х"},{"$nulls":4},{"$f":"$H$23","v":"Б"},null,{"$f":"$B$19","v":"РЯ"},{"$f":"$B$21","v":"РЯт"},{"$f":"$B$30","v":"И"},{"$f":"$B$29","v":"Ин"},null,{"$f":"$H$21","v":"Ф"},{"$f":"$B$20","v":"Л"},{"$nulls":3},{"$f":"$B$26","v":"НЯ"},null,{"$f":"$B$27","v":"А"},{"$f":"$B$25","v":"АЯ"}]
[{"$f":"Ноябрь!A17","v":10},null,{"$f":"$H$21","v":"Ф"},null,{"$f":"$H$19","v":"О"},{"$nulls":7},{"$f":"$B$29","v":"Ин"},{"$nulls":3},{"$f":"$B$19","v":"РЯ"},{"$f":"$H$30","v":"М"},{"$f":"$H$22","v":"Х"},null,{"$f":"$B$25","v":"АЯ"}]
[]
[null,"РЯ",null,"русский язык",{"$nulls":3},"О",null,"обществзнан",{"$nulls":6},"административная контрольная работа (школьный уровень)"]
[null,"Л",null,"литература",{"$nulls":3},"Гг",null,"география"]
[null,"РЯт",null,"род. яз. тат",{"$nulls":3},"Ф",null,"физика",{"$nulls":6},"тематическая контрольная работа (школьный уровень)"]
[null,"РЯр",null,"род. яз. русс",{"$nulls":3},"Х",null,"химия"]
[null,"РЛт",null,"род. лит. тат",{"$nulls":3},"Б",null,"биология",{"$nulls":6},"ВПР (федеральный уровень)"]
[null,"РЛр",null,"род. лит. русс",{"$nulls":3},"Му",null,"музыка"]
[null,"АЯ",null,"ин яз (англ)",{"$nulls":3},"Т",null,"технология",{"$nulls":6},"выходные дни, каникулы"]
[null,"НЯ",null,"ин яз (нем)",{"$nulls":3},"ФК",null,"физ-ра"]
[null,"А",null,"алгебра",{"$nulls":3},"ОБЖ",null,"ОБЖ"]
[null,"Гм",null,"геометрия",{"$nulls":3},"ИЗО",null,"ИЗО"]
[null,"Ин",null,"информатика",{"$nulls":3},"ДНК",null,"ОДНКР"]
[null,"И",null,"история",{"$nulls":3},"М",null,"математика"]